BEGIN:VCALENDAR
VERSION:2.0
PRODID:-//Plone.org//NONSGML plone.app.event//EN
X-WR-TIMEZONE:Europe/Rome
BEGIN:VEVENT
SUMMARY:Dialogo sull’affido. Dal desiderio all’esperienza
DTSTART;TZID=Europe/Rome;VALUE=DATE-TIME:20241109T093000
DTEND;TZID=Europe/Rome;VALUE=DATE-TIME:20241109T123000
DTSTAMP;VALUE=DATE-TIME:20260420T063145Z
UID:f85870f0961f45ceafcfa1b56a2e1aba@127.0.0.1:8095
CONTACT:adozioneaffidoaccoglienza@ausl.bologna.it
CREATED;VALUE=DATE-TIME:20241011T102056Z
DESCRIPTION:Incontro con Simona Sarti dell’Associazione “Famiglie per 
 l’Accoglienza”. A cura del Centro Metropolitano Adozione Affido e Acco
 glienza. Iscrizioni entro il 5 novembre 2024
LAST-MODIFIED;VALUE=DATE-TIME:20241128T093719Z
LOCATION:Bologna - Aula delle Colonne della Casa della Comunità Porto Sar
 agozza\, Via Sant'Isaia 90
URL:https://www.ausl.bologna.it/eventi/archivio/dialogo-sull2019affido-dal
 -desiderio-all2019esperienza
END:VEVENT
BEGIN:VTIMEZONE
TZID:Europe/Rome
X-LIC-LOCATION:Europe/Rome
BEGIN:STANDARD
DTSTART;VALUE=DATE-TIME:20241027T020000
TZNAME:CET
TZOFFSETFROM:+0200
TZOFFSETTO:+0100
END:STANDARD
END:VTIMEZONE
END:VCALENDAR
