BEGIN:VCALENDAR
VERSION:2.0
PRODID:-//Plone.org//NONSGML plone.app.event//EN
X-WR-TIMEZONE:Europe/Rome
BEGIN:VEVENT
SUMMARY:Dialoghiamo di obesità: Weight regain\, il recupero del peso: per
 chè? Cosa fare? L'importanza del follow-up
DTSTART;TZID=Europe/Rome;VALUE=DATE-TIME:20231007T150000
DTEND;TZID=Europe/Rome;VALUE=DATE-TIME:20231007T170000
DTSTAMP;VALUE=DATE-TIME:20260420T080712Z
UID:672926fd0e174809a03ab3acd4470e45@127.0.0.1:8095
CREATED;VALUE=DATE-TIME:20231002T133616Z
DESCRIPTION:I professionisti del Centro Interaziendale di Chirurgia Metabo
 lica e dell’Obesità Azienda USL - Azienda Ospedaliera di Bologna incont
 rano i cittadini
LAST-MODIFIED;VALUE=DATE-TIME:20231116T081218Z
LOCATION:Sala Prof. Marco Biagi\, via S. Stefano 119 Quartiere S.Stefano -
  Bologna
URL:https://www.ausl.bologna.it/eventi/archivio/dialoghiamo-di-obesita-wei
 ght-regain-il-recupero-del-peso-perche-cosa-fare-limportanza-del-follow-up
END:VEVENT
BEGIN:VTIMEZONE
TZID:Europe/Rome
X-LIC-LOCATION:Europe/Rome
BEGIN:DAYLIGHT
DTSTART;VALUE=DATE-TIME:20230326T030000
TZNAME:CEST
TZOFFSETFROM:+0100
TZOFFSETTO:+0200
END:DAYLIGHT
END:VTIMEZONE
END:VCALENDAR
