BEGIN:VCALENDAR
VERSION:2.0
PRODID:-//Plone.org//NONSGML plone.app.event//EN
X-WR-TIMEZONE:Europe/Rome
BEGIN:VEVENT
SUMMARY:11° Flashmob regionale
DTSTART;TZID=Europe/Rome;VALUE=DATE-TIME:20230930T153000
DTEND;TZID=Europe/Rome;VALUE=DATE-TIME:20230930T170000
DTSTAMP;VALUE=DATE-TIME:20260420T075602Z
UID:bf4e643083e64408be28330eca2d4d5d@127.0.0.1:8095
CREATED;VALUE=DATE-TIME:20230920T082245Z
DESCRIPTION:Indossa una maglietta bianca e partecipa anche tu. Vieni ad al
 lattare il tuo bambino con noi a Casalecchio di Reno
LAST-MODIFIED;VALUE=DATE-TIME:20231116T081153Z
LOCATION:Casalecchio di Reno
URL:https://www.ausl.bologna.it/eventi/archivio/csflashmob-regionale-allat
 tiamo-insieme
END:VEVENT
BEGIN:VTIMEZONE
TZID:Europe/Rome
X-LIC-LOCATION:Europe/Rome
BEGIN:DAYLIGHT
DTSTART;VALUE=DATE-TIME:20230326T030000
TZNAME:CEST
TZOFFSETFROM:+0100
TZOFFSETTO:+0200
END:DAYLIGHT
END:VTIMEZONE
END:VCALENDAR
