BEGIN:VCALENDAR
VERSION:2.0
PRODID:-//Plone.org//NONSGML plone.app.event//EN
X-WR-TIMEZONE:Europe/Rome
BEGIN:VEVENT
SUMMARY:Corso di formazione per Walking leader
DTSTART;TZID=Europe/Rome;VALUE=DATE-TIME:20230512T160000
DTEND;TZID=Europe/Rome;VALUE=DATE-TIME:20230513T173000
DTSTAMP;VALUE=DATE-TIME:20260420T093259Z
UID:aebdfb43d40f44dc9da9d134cc3533b8@127.0.0.1:8095
CATEGORIES:DSP
CONTACT:Pietro Loro Pilone\, p.loropilone@ausl.bologna.it
CREATED;VALUE=DATE-TIME:20230412T091130Z
DESCRIPTION:Due giornate di formazione per chi conduce o vuole condurre Gr
 uppi di cammino
LAST-MODIFIED;VALUE=DATE-TIME:20230825T062631Z
LOCATION:Presso la Casa della Comunità di Vado\, in via Val di Setta 4/a
URL:https://www.ausl.bologna.it/eventi/archivio/corso-di-formazione-per-wa
 lking-leader
END:VEVENT
BEGIN:VTIMEZONE
TZID:Europe/Rome
X-LIC-LOCATION:Europe/Rome
BEGIN:DAYLIGHT
DTSTART;VALUE=DATE-TIME:20230326T030000
TZNAME:CEST
TZOFFSETFROM:+0100
TZOFFSETTO:+0200
END:DAYLIGHT
END:VTIMEZONE
END:VCALENDAR
