BEGIN:VCALENDAR
VERSION:2.0
PRODID:-//Plone.org//NONSGML plone.app.event//EN
X-WR-TIMEZONE:Europe/Rome
BEGIN:VEVENT
SUMMARY:Corso di formazione per conduttori di Gruppi di cammino Walking Le
 ader
DTSTART;VALUE=DATE:20241025
DTEND;VALUE=DATE:20241027
DTSTAMP;VALUE=DATE-TIME:20260420T063332Z
UID:121a682c34154a9eb4718fddbf17c0e4@127.0.0.1:8095
CATEGORIES:Savena Idice
CONTACT:353 317 6032\, info@vivailverde.org\, https://www.mappadellasalute
 .it/loiano-bo-corso-di-formazione-per-walking-leader/
CREATED;VALUE=DATE-TIME:20241007T113103Z
DESCRIPTION:Il 25 e il 26 ottobre a Loiano. Corso gratuito in collaborazio
 ne con l'Associazione Viva il verde
LAST-MODIFIED;VALUE=DATE-TIME:20241128T093712Z
LOCATION:Sala Baldassarri (Emilbanca) - Loiano
URL:https://www.ausl.bologna.it/eventi/archivio/corso-di-formazione-per-co
 nduttori-di-gruppi-di-cammino-walking-leader
END:VEVENT
END:VCALENDAR
