BEGIN:VCALENDAR
VERSION:2.0
PRODID:-//Plone.org//NONSGML plone.app.event//EN
X-WR-TIMEZONE:Europe/Rome
BEGIN:VEVENT
SUMMARY:Corpi Borderline e disturbi di personalità
DTSTART;TZID=Europe/Rome;VALUE=DATE-TIME:20230627T150000
DTEND;TZID=Europe/Rome;VALUE=DATE-TIME:20230627T170000
DTSTAMP;VALUE=DATE-TIME:20260420T093436Z
UID:f1377f87f17546a6859f67dc120ce87d@127.0.0.1:8095
ATTENDEE;CN="Clara Mucci, Professore ordinario Psicologia Dinamica, Presid
 ente Corso di Laurea Magistrale in Psicologia Clinica - Università di Ber
 gamo";ROLE=REQ-PARTICIPANT:Clara Mucci, Professore ordinario Psicologia Di
 namica, Presidente Corso di Laurea Magistrale in Psicologia Clinica - Univ
 ersità di Bergamo
CATEGORIES:Istituto Scienze Neurologiche
CREATED;VALUE=DATE-TIME:20230418T141729Z
DESCRIPTION:Seminari IRCCS BLU - Scuola di Specializzazione in Neuropsichi
 atria Infantile
LAST-MODIFIED;VALUE=DATE-TIME:20230825T062634Z
LOCATION:online
URL:https://www.ausl.bologna.it/eventi/archivio/corpi-borderline-e-disturb
 i-di-personalita
END:VEVENT
BEGIN:VTIMEZONE
TZID:Europe/Rome
X-LIC-LOCATION:Europe/Rome
BEGIN:DAYLIGHT
DTSTART;VALUE=DATE-TIME:20230326T030000
TZNAME:CEST
TZOFFSETFROM:+0100
TZOFFSETTO:+0200
END:DAYLIGHT
END:VTIMEZONE
END:VCALENDAR
