BEGIN:VCALENDAR
VERSION:2.0
PRODID:-//Plone.org//NONSGML plone.app.event//EN
X-WR-TIMEZONE:Europe/Rome
BEGIN:VEVENT
SUMMARY:Investire sulla formazione per la sicurezza sul lavoro: il caso de
 lla School di Interporto di Bologna
DTSTART;TZID=Europe/Rome;VALUE=DATE-TIME:20241120T090000
DTEND;TZID=Europe/Rome;VALUE=DATE-TIME:20241120T130000
DTSTAMP;VALUE=DATE-TIME:20260420T091232Z
UID:e1af2c47cf834306ab3c7380a1701b2f@127.0.0.1:8095
CATEGORIES:DSP
CONTACT:Daniela Guidetti\, daniela.guidetti@ausl.bologna.it
CREATED;VALUE=DATE-TIME:20230913T093019Z
DESCRIPTION:Workshop nell'ambito di AMBIENTE-LAVORO 2024\, XXIV Salone Naz
 ionale della salute e sicurezza nei luoghi di lavoro
LAST-MODIFIED;VALUE=DATE-TIME:20250313T141156Z
LOCATION:Presso la Sala Regione Emilia-Romagna – C14\, Pad. 22\, Quartie
 re fieristico di Bologna
URL:https://www.ausl.bologna.it/eventi/archivio/copy_of_workshop-logistica
 -ambiente-lavoro
END:VEVENT
BEGIN:VTIMEZONE
TZID:Europe/Rome
X-LIC-LOCATION:Europe/Rome
BEGIN:STANDARD
DTSTART;VALUE=DATE-TIME:20241027T020000
TZNAME:CET
TZOFFSETFROM:+0200
TZOFFSETTO:+0100
END:STANDARD
END:VTIMEZONE
END:VCALENDAR
