BEGIN:VCALENDAR
VERSION:2.0
PRODID:-//Plone.org//NONSGML plone.app.event//EN
X-WR-TIMEZONE:Europe/Rome
BEGIN:VEVENT
SUMMARY:EVENTO ANNULLATO - Nutriamo il movimento. A Bologna
DTSTART;TZID=Europe/Rome;VALUE=DATE-TIME:20241022T150000
DTEND;TZID=Europe/Rome;VALUE=DATE-TIME:20241022T163000
DTSTAMP;VALUE=DATE-TIME:20260420T062759Z
UID:d778768288f94b41a4a62998c3a2d26b@127.0.0.1:8095
CREATED;VALUE=DATE-TIME:20240927T120650Z
DESCRIPTION:Nell'ambito di "Incontri per la salute. una comunità che cres
 ce"
LAST-MODIFIED;VALUE=DATE-TIME:20241128T093717Z
LOCATION:Bologna\, Casa della Comunità Navile Aula Piano terra
URL:https://www.ausl.bologna.it/eventi/archivio/copy_of_nutriamo-il-movime
 nto
END:VEVENT
BEGIN:VTIMEZONE
TZID:Europe/Rome
X-LIC-LOCATION:Europe/Rome
BEGIN:DAYLIGHT
DTSTART;VALUE=DATE-TIME:20240331T030000
TZNAME:CEST
TZOFFSETFROM:+0100
TZOFFSETTO:+0200
END:DAYLIGHT
END:VTIMEZONE
END:VCALENDAR
