BEGIN:VCALENDAR
VERSION:2.0
PRODID:-//Plone.org//NONSGML plone.app.event//EN
X-WR-TIMEZONE:Europe/Rome
BEGIN:VEVENT
SUMMARY:San Pietro in Casale. Zanzara tigre e altri insetti\, pericoli pub
 blici. Conoscili\, proteggiti\, previeni
DTSTART;VALUE=DATE-TIME:20180724T160000Z
DTEND;VALUE=DATE-TIME:20180724T173000Z
DTSTAMP;VALUE=DATE-TIME:20260420T031111Z
UID:28c7bf2bb99885fb3d3a378416ba6420@127.0.0.1:8095
CATEGORIES:Incontri per la salute
CREATED;VALUE=DATE-TIME:20180713T140320Z
DESCRIPTION:Incontro di informazione ai cittadini a cura della Casa della 
 Salute di San Pietro in Casale e Galliera
LAST-MODIFIED;VALUE=DATE-TIME:20180828T104035Z
LOCATION:San Pietro in Casale\, Sala del Centro Civico\, Piazza Martiri
URL:https://www.ausl.bologna.it/eventi/archivio/copy_of_auslevent.2018-07-
 13.4389714819
END:VEVENT
END:VCALENDAR
