BEGIN:VCALENDAR
VERSION:2.0
PRODID:-//Plone.org//NONSGML plone.app.event//EN
X-WR-TIMEZONE:Europe/Rome
BEGIN:VEVENT
SUMMARY:Edu-care. Educare alla salute
DTSTART;VALUE=DATE-TIME:20180417T150000Z
DTEND;VALUE=DATE-TIME:20180417T170000Z
DTSTAMP;VALUE=DATE-TIME:20260420T073746Z
UID:a75b79703f037dcbf44d062bf31a9d79@127.0.0.1:8095
ATTENDEE;CN="I crediti formativi (ECM) sono stati richiesti per tutte le f
 igure di ruolo sanitario";ROLE=REQ-PARTICIPANT:I crediti formativi (ECM) s
 ono stati richiesti per tutte le figure di ruolo sanitario
CATEGORIES:Corso di formazione
CREATED;VALUE=DATE-TIME:20180116T150908Z
DESCRIPTION:Corso di formazione ECM presso Fondazione FICO su alimentazion
 e\, salute\, sicurezza alimentare e sostenibilità ambientale
LAST-MODIFIED;VALUE=DATE-TIME:20180518T062800Z
LOCATION:Fondazione FICO\, spazio 118 FICO Eataly World\, Via P. Canali\, 
 8 - Bologna
URL:https://www.ausl.bologna.it/eventi/archivio/copy_of_auslevent.2018-01-
 16.9958398835
END:VEVENT
END:VCALENDAR
