BEGIN:VCALENDAR
VERSION:2.0
PRODID:-//Plone.org//NONSGML plone.app.event//EN
X-WR-TIMEZONE:Europe/Rome
BEGIN:VEVENT
SUMMARY:Alimentare la prevenzione
DTSTART;VALUE=DATE-TIME:20171212T090000Z
DTEND;VALUE=DATE-TIME:20171212T130000Z
DTSTAMP;VALUE=DATE-TIME:20260420T063028Z
UID:62ce13606650f71fc5b586ce5a72a359@127.0.0.1:8095
CONTACT:igienenutrizione@ausl.bologna.it
CREATED;VALUE=DATE-TIME:20171117T125559Z
LAST-MODIFIED;VALUE=DATE-TIME:20180518T061115Z
LOCATION:Istituto Scappi - Casalecchio di Reno
URL:https://www.ausl.bologna.it/eventi/archivio/copy_of_auslevent.2017-11-
 17.1136902177
END:VEVENT
END:VCALENDAR
