BEGIN:VCALENDAR
VERSION:2.0
PRODID:-//Plone.org//NONSGML plone.app.event//EN
X-WR-TIMEZONE:Europe/Rome
BEGIN:VEVENT
SUMMARY:Corso Walking leader 2019
DTSTART;VALUE=DATE-TIME:20190321T120000Z
DTEND;VALUE=DATE-TIME:20190404T163000Z
DTSTAMP;VALUE=DATE-TIME:20260420T093528Z
UID:917f97e1d923d0a520fb9cdaaf5acb76@127.0.0.1:8095
CONTACT:Muriel Musti\, murielassunta.musti@ausl.bologna.it
CREATED;VALUE=DATE-TIME:20170317T114606Z
DESCRIPTION:Nell’azienda USL di Bologna sono diversi i gruppi di cammino
  attivi e permanenti tutto l’anno. Affinchè l’attività sia condotta 
 in assoluta sicurezza e perduri nel tempo è fondamentale che ogni gruppo 
 di cammino abbia un suo riferimento (walking leader).\nL'obiettivo del cor
 so è quello di formare operatori con competenze e conoscenze adeguate nel
 la conduzione di un gruppo di cammino
LAST-MODIFIED;VALUE=DATE-TIME:20190724T082011Z
LOCATION:Casa della Salute Casalecchio di Reno\, Piazzale Rita Levi Montal
 cini 5\, 40033 Casalecchio di Reno – aula piano interrato
URL:https://www.ausl.bologna.it/eventi/archivio/copy_of_auslevent.2017-03-
 17.9231603152
END:VEVENT
END:VCALENDAR
