BEGIN:VCALENDAR
VERSION:2.0
PRODID:-//Plone.org//NONSGML plone.app.event//EN
X-WR-TIMEZONE:Europe/Rome
BEGIN:VEVENT
SUMMARY:Lo stile alimentare mediterraneo per mantenersi in salute  
DTSTART;VALUE=DATE-TIME:20160419T120000Z
DTEND;VALUE=DATE-TIME:20160419T140000Z
DTSTAMP;VALUE=DATE-TIME:20260422T120815Z
UID:277367a73b5c10f94440c93aef5ca13b@127.0.0.1:8095
ATTENDEE;CN="Tutti gli operatori dell'Ospedale Bellaria";ROLE=REQ-PARTICIP
 ANT:Tutti gli operatori dell'Ospedale Bellaria
CATEGORIES:Giornata di prevenzione
CONTACT:UOC Alimenti e nutrizione Città - DSP\, igienenutrizione@ausl.bol
 ogna.it
CREATED;VALUE=DATE-TIME:20160310T073906Z
DESCRIPTION:Quarto appuntamento di Bellaria InFORMA\nD.ssa Luisa Zoni  
LAST-MODIFIED;VALUE=DATE-TIME:20160603T094948Z
LOCATION:Aula magna pad. Tinozzi - Ospedale Bellaria
URL:https://www.ausl.bologna.it/eventi/archivio/copy_of_auslevent.2016-03-
 10.4324819078
END:VEVENT
END:VCALENDAR
