BEGIN:VCALENDAR
VERSION:2.0
PRODID:-//Plone.org//NONSGML plone.app.event//EN
X-WR-TIMEZONE:Europe/Rome
BEGIN:VEVENT
SUMMARY:Datti una mossa\, muoversi è un piacere!
DTSTART;VALUE=DATE-TIME:20160301T130000Z
DTEND;VALUE=DATE-TIME:20160301T150000Z
DTSTAMP;VALUE=DATE-TIME:20260420T152325Z
UID:d21a6e5ba6bc8bf248a8d8adccd96be4@127.0.0.1:8095
ATTENDEE;CN="Tutti gli operatori dell'Ospedale Bellaria";ROLE=REQ-PARTICIP
 ANT:Tutti gli operatori dell'Ospedale Bellaria
CATEGORIES:Giornata di prevenzione
CONTACT:UOC Alimenti e nutrizione Città - DSP\, igienenutrizione@ausl.bol
 ogna.it
CREATED;VALUE=DATE-TIME:20160126T102843Z
DESCRIPTION:Secondo appuntamento di Bellaria InFORMA\n
LAST-MODIFIED;VALUE=DATE-TIME:20160603T094856Z
LOCATION:Aula magna pad. Tinozzi - Ospedale Bellaria
URL:https://www.ausl.bologna.it/eventi/archivio/copy_of_auslevent.2016-01-
 26.8839864217
END:VEVENT
END:VCALENDAR
