BEGIN:VCALENDAR
VERSION:2.0
PRODID:-//Plone.org//NONSGML plone.app.event//EN
X-WR-TIMEZONE:Europe/Rome
BEGIN:VEVENT
SUMMARY:Percorso di educazione alimentare per celiaci
DTSTART;VALUE=DATE-TIME:20140516T140000Z
DTEND;VALUE=DATE-TIME:20140516T160000Z
DTSTAMP;VALUE=DATE-TIME:20260421T045046Z
UID:56e4036b8d787713e73e21d002215f31@127.0.0.1:8095
ATTENDEE;CN="Percorso di educazione alimentare per celiaci";ROLE=REQ-PARTI
 CIPANT:Percorso di educazione alimentare per celiaci
CATEGORIES:corso
CONTACT:Cristina Coppini\, 051 6079685\, c.coppini@ausl.bologna.it
CREATED;VALUE=DATE-TIME:20130513T105729Z
DESCRIPTION:Prosegue l’iniziativa promossa dalla U.O. Igiene degli Alime
 nti e Nutrizione dell’Azienda Usl di Bologna di sviluppare un percorso d
 i educazione alimentare per le persone con celiachia e i loro familiari.
LAST-MODIFIED;VALUE=DATE-TIME:20140507T115505Z
LOCATION:Bologna - Sala Ottagonale\, via Gramsci 12 
URL:https://www.ausl.bologna.it/eventi/archivio/copy_of_auslevent.2013-05-
 13.0461346279
END:VEVENT
END:VCALENDAR
