BEGIN:VCALENDAR
VERSION:2.0
PRODID:-//Plone.org//NONSGML plone.app.event//EN
X-WR-TIMEZONE:Europe/Rome
BEGIN:VEVENT
SUMMARY:Percorso di educazione alimentare per celiaci 
DTSTART;VALUE=DATE-TIME:20130305T150000Z
DTEND;VALUE=DATE-TIME:20130305T170000Z
DTSTAMP;VALUE=DATE-TIME:20260421T025920Z
UID:4fdb609149d733d58757374f6bfb7c00@127.0.0.1:8095
CATEGORIES:Corso di educazione alimentare
CONTACT:Cristina Coppini\, 051 6079685\, c.coppini@ausl.bologna.it
CREATED;VALUE=DATE-TIME:20130211T150058Z
DESCRIPTION:Il secondo incontro di un percorso di educazione alimentare di
 retto ai celiaci ed ai loro famigliari\, per favorire l’adesione ad una 
 dieta senza glutine. Un'iniziativa della UO Igiene Alimenti e Nutrizione d
 ell’Azienda USL di Bologna.
LAST-MODIFIED;VALUE=DATE-TIME:20130904T082941Z
LOCATION:Bologna - Sala Ottagonale\, via Gramsci 12
URL:https://www.ausl.bologna.it/eventi/archivio/copy_of_auslevent.2013-02-
 11.2368759510
END:VEVENT
END:VCALENDAR
