BEGIN:VCALENDAR
VERSION:2.0
PRODID:-//Plone.org//NONSGML plone.app.event//EN
X-WR-TIMEZONE:Europe/Rome
BEGIN:VEVENT
SUMMARY:Alimenta la tua salute Maggiore InForma 
DTSTART;VALUE=DATE-TIME:20171114T130000Z
DTEND;VALUE=DATE-TIME:20171114T150000Z
DTSTAMP;VALUE=DATE-TIME:20260420T093608Z
UID:b976db8311aea90afd3a1af46afb8ee0@127.0.0.1:8095
ATTENDEE;CN="Tutti gli operatori dell'Ospedale Maggiore";ROLE=REQ-PARTICIP
 ANT:Tutti gli operatori dell'Ospedale Maggiore
CATEGORIES:Salute\, sport\, benessere
CONTACT:Domina Rosa\, rosa.domina@ausl.bologna.it
CREATED;VALUE=DATE-TIME:20170301T102724Z
DESCRIPTION:Diabete e stili di vita con particolare riferimento all'alimen
 tazione  Alessandra Sforza SSD Endocrinologia 
LAST-MODIFIED;VALUE=DATE-TIME:20170901T132541Z
LOCATION:Aula Magna - Ospedale Maggiore Bologna
URL:https://www.ausl.bologna.it/eventi/archivio/copy8_of_auslevent.2017-03
 -01.7242747255
END:VEVENT
END:VCALENDAR
