BEGIN:VCALENDAR
VERSION:2.0
PRODID:-//Plone.org//NONSGML plone.app.event//EN
X-WR-TIMEZONE:Europe/Rome
BEGIN:VEVENT
SUMMARY:Alimenta la tua salute Maggiore InForma 
DTSTART;VALUE=DATE-TIME:20171024T120000Z
DTEND;VALUE=DATE-TIME:20171024T140000Z
DTSTAMP;VALUE=DATE-TIME:20260420T093609Z
UID:de6dfb6ad0dcdf45f8c9244e2ea45f83@127.0.0.1:8095
ATTENDEE;CN="Tutti gli operatori dell'Ospedale Maggiore";ROLE=REQ-PARTICIP
 ANT:Tutti gli operatori dell'Ospedale Maggiore
CATEGORIES:Salute\, sport\, benessere
CONTACT:Domina Rosa\, rosa.domina@ausl.bologna.it
CREATED;VALUE=DATE-TIME:20170301T102724Z
DESCRIPTION:Alimentazione e malattie gastrointestinali: una stretta relazi
 one Franca Patrizi  UO Gastroenterologia metropolitana Azienda USL Bologna
  
LAST-MODIFIED;VALUE=DATE-TIME:20171009T074628Z
LOCATION:Aula Magna - Ospedale Maggiore Bologna
URL:https://www.ausl.bologna.it/eventi/archivio/copy7_of_auslevent.2017-03
 -01.7242747255
END:VEVENT
END:VCALENDAR
