BEGIN:VCALENDAR
VERSION:2.0
PRODID:-//Plone.org//NONSGML plone.app.event//EN
X-WR-TIMEZONE:Europe/Rome
BEGIN:VEVENT
SUMMARY:Alimenta la tua salute Maggiore InForma 
DTSTART;VALUE=DATE-TIME:20171017T120000Z
DTEND;VALUE=DATE-TIME:20171017T140000Z
DTSTAMP;VALUE=DATE-TIME:20260420T093615Z
UID:e4e21f8ae817f6c73cca9c6f7e87b079@127.0.0.1:8095
ATTENDEE;CN="Tutti gli operatori dell'Ospedale Maggiore";ROLE=REQ-PARTICIP
 ANT:Tutti gli operatori dell'Ospedale Maggiore
CATEGORIES:Salute\, sport\, benessere
CONTACT:Domina Rosa\, rosa.domina@ausl.bologna.it
CREATED;VALUE=DATE-TIME:20170301T102724Z
DESCRIPTION:Stili di vita per la salute: la difficile via del cambiamento 
 - Elena Centis UOC Igiene Alimenti e Nutrizione Dipartimento di Sanità Pu
 bblica
LAST-MODIFIED;VALUE=DATE-TIME:20170901T132203Z
LOCATION:Aula Magna - Ospedale Maggiore Bologna
URL:https://www.ausl.bologna.it/eventi/archivio/copy6_of_auslevent.2017-03
 -01.7242747255
END:VEVENT
END:VCALENDAR
