BEGIN:VCALENDAR
VERSION:2.0
PRODID:-//Plone.org//NONSGML plone.app.event//EN
X-WR-TIMEZONE:Europe/Rome
BEGIN:VEVENT
SUMMARY:Percorso di educazione alimentare per celiaci 
DTSTART;VALUE=DATE-TIME:20130404T140000Z
DTEND;VALUE=DATE-TIME:20130404T160000Z
DTSTAMP;VALUE=DATE-TIME:20260421T025919Z
UID:e6a958712f219cab71bae47422358eab@127.0.0.1:8095
CATEGORIES:Corso di educazione alimentare
CONTACT:Cristina Coppini\, 051 6079685\, c.coppini@ausl.bologna.it
CREATED;VALUE=DATE-TIME:20130211T150058Z
DESCRIPTION:Il sesto incontro di un percorso di educazione alimentare dire
 tto ai celiaci ed ai loro famigliari\, per favorire l’adesione ad una di
 eta senza glutine. Un'iniziativa della UO Igiene Alimenti e Nutrizione del
 l’Azienda USL di Bologna.
LAST-MODIFIED;VALUE=DATE-TIME:20130904T082944Z
LOCATION:Bologna - Cucina Istituto Ortopedico Rizzoli\, via G. C. Pupilli 
 1
URL:https://www.ausl.bologna.it/eventi/archivio/copy5_of_auslevent.2013-02
 -11.2368759510
END:VEVENT
END:VCALENDAR
