BEGIN:VCALENDAR
VERSION:2.0
PRODID:-//Plone.org//NONSGML plone.app.event//EN
X-WR-TIMEZONE:Europe/Rome
BEGIN:VEVENT
SUMMARY:Alimenta la tua salute Maggiore InForma 
DTSTART;VALUE=DATE-TIME:20170926T120000Z
DTEND;VALUE=DATE-TIME:20170926T140000Z
DTSTAMP;VALUE=DATE-TIME:20260420T093609Z
UID:ad3c5212b2a60561c579903a9d97a1a8@127.0.0.1:8095
ATTENDEE;CN="Tutti gli operatori dell'Ospedale Maggiore";ROLE=REQ-PARTICIP
 ANT:Tutti gli operatori dell'Ospedale Maggiore
CATEGORIES:Salute\, sport\, benessere
CONTACT:Domina Rosa\, rosa.domina@ausl.bologna.it
CREATED;VALUE=DATE-TIME:20170301T102724Z
DESCRIPTION:Alimentazione e salute: diete a confronto - Rebecca Marzocchi 
 UOC Igiene Alimenti e Nutrizione Dipartimento di Sanità Pubblica
LAST-MODIFIED;VALUE=DATE-TIME:20170901T132648Z
LOCATION:Aula Magna - Ospedale Maggiore Bologna
URL:https://www.ausl.bologna.it/eventi/archivio/copy4_of_auslevent.2017-03
 -01.7242747255
END:VEVENT
END:VCALENDAR
