BEGIN:VCALENDAR
VERSION:2.0
PRODID:-//Plone.org//NONSGML plone.app.event//EN
X-WR-TIMEZONE:Europe/Rome
BEGIN:VEVENT
SUMMARY:Alimenta la tua salute Maggiore InForma 
DTSTART;VALUE=DATE-TIME:20170523T120000Z
DTEND;VALUE=DATE-TIME:20170523T140000Z
DTSTAMP;VALUE=DATE-TIME:20260420T093609Z
UID:64438b8270deaf6e8d6f2ab62025d731@127.0.0.1:8095
ATTENDEE;CN="Tutti gli operatori dell'Ospedale Maggiore";ROLE=REQ-PARTICIP
 ANT:Tutti gli operatori dell'Ospedale Maggiore
CATEGORIES:Salute\, sport\, benessere
CONTACT:Domina Rosa\, rosa.domina@ausl.bologna.it
CREATED;VALUE=DATE-TIME:20170301T102724Z
DESCRIPTION:Lo stile alimentare mediterraneo per mantenersi in salute  Lui
 sa Zoni UOC Dietologia e Nutrizione Clinica
LAST-MODIFIED;VALUE=DATE-TIME:20170512T110738Z
LOCATION:Aula Magna - Ospedale Maggiore Bologna
URL:https://www.ausl.bologna.it/eventi/archivio/copy3_of_auslevent.2017-03
 -01.7242747255
END:VEVENT
END:VCALENDAR
