BEGIN:VCALENDAR
VERSION:2.0
PRODID:-//Plone.org//NONSGML plone.app.event//EN
X-WR-TIMEZONE:Europe/Rome
BEGIN:VEVENT
SUMMARY:La gestione delle criticità relazionali in vigilanza
DTSTART;VALUE=DATE-TIME:20170302T073000Z
DTEND;VALUE=DATE-TIME:20170302T160000Z
DTSTAMP;VALUE=DATE-TIME:20260420T112710Z
UID:9680e48bc0d76a63fcf4a3999c643971@127.0.0.1:8095
ATTENDEE;CN="Medici, Tecnici della Prevenzione";ROLE=REQ-PARTICIPANT:Medic
 i, Tecnici della Prevenzione
CATEGORIES:Corso di formazione
CONTACT:Stefania Gambetti \, 051 6644707\, st.gambetti@ausl.bologna.it
CREATED;VALUE=DATE-TIME:20161223T093936Z
LAST-MODIFIED;VALUE=DATE-TIME:20171128T105413Z
LOCATION:Via Sant'isaia\, 94/a - Bologna
URL:https://www.ausl.bologna.it/eventi/archivio/copy3_of_auslevent.2016-12
 -23.3039791479
END:VEVENT
END:VCALENDAR
