BEGIN:VCALENDAR
VERSION:2.0
PRODID:-//Plone.org//NONSGML plone.app.event//EN
X-WR-TIMEZONE:Europe/Rome
BEGIN:VEVENT
SUMMARY:Allattiamo insieme! a Bologna
DTSTART;TZID=Europe/Rome;VALUE=DATE-TIME:20241003T100000
DTEND;TZID=Europe/Rome;VALUE=DATE-TIME:20241003T120000
DTSTAMP;VALUE=DATE-TIME:20260420T062953Z
UID:7857f403fe2240f1b08ab183ba086ef9@127.0.0.1:8095
CONTACT:https://www.ausl.bologna.it/news/current/settimana-mondiale-dell20
 19allattamento-201cstop-alle-disuguaglianze-2013-sostegno-a-360deg
CREATED;VALUE=DATE-TIME:20240927T111817Z
DESCRIPTION:Indossa una maglietta bianca e partecipa anche tu
LAST-MODIFIED;VALUE=DATE-TIME:20241128T093714Z
LOCATION:Bologna\, Piazza del Nettuno
URL:https://www.ausl.bologna.it/eventi/archivio/copy3_of_allattiamo-insiem
 e
END:VEVENT
BEGIN:VTIMEZONE
TZID:Europe/Rome
X-LIC-LOCATION:Europe/Rome
BEGIN:DAYLIGHT
DTSTART;VALUE=DATE-TIME:20240331T030000
TZNAME:CEST
TZOFFSETFROM:+0100
TZOFFSETTO:+0200
END:DAYLIGHT
END:VTIMEZONE
END:VCALENDAR
