BEGIN:VCALENDAR
VERSION:2.0
PRODID:-//Plone.org//NONSGML plone.app.event//EN
X-WR-TIMEZONE:Europe/Rome
BEGIN:VEVENT
SUMMARY:Nutriamo il movimento. A Bologna
DTSTART;TZID=Europe/Rome;VALUE=DATE-TIME:20241115T150000
DTEND;TZID=Europe/Rome;VALUE=DATE-TIME:20241115T163000
DTSTAMP;VALUE=DATE-TIME:20260420T062759Z
UID:9350964afb044123bed30836e21d96f0@127.0.0.1:8095
CREATED;VALUE=DATE-TIME:20240927T120650Z
DESCRIPTION:Nell'ambito di "Incontri per la salute. una comunità che cres
 ce"
LAST-MODIFIED;VALUE=DATE-TIME:20241128T093717Z
LOCATION:Bologna\, Casa della Comunità Borgo Aula Piano terra
URL:https://www.ausl.bologna.it/eventi/archivio/copy2_of_nutriamo-il-movim
 ento
END:VEVENT
BEGIN:VTIMEZONE
TZID:Europe/Rome
X-LIC-LOCATION:Europe/Rome
BEGIN:STANDARD
DTSTART;VALUE=DATE-TIME:20241027T020000
TZNAME:CET
TZOFFSETFROM:+0200
TZOFFSETTO:+0100
END:STANDARD
END:VTIMEZONE
END:VCALENDAR
