BEGIN:VCALENDAR
VERSION:2.0
PRODID:-//Plone.org//NONSGML plone.app.event//EN
X-WR-TIMEZONE:Europe/Rome
BEGIN:VEVENT
SUMMARY:Pieve di Cento. Zanzara tigre e altri insetti\, pericoli pubblici.
  Conoscili\, proteggiti\, previeni
DTSTART;VALUE=DATE-TIME:20180725T160000Z
DTEND;VALUE=DATE-TIME:20180725T173000Z
DTSTAMP;VALUE=DATE-TIME:20260420T031111Z
UID:a097cbbb9a26a35cc25089559135c743@127.0.0.1:8095
CATEGORIES:Incontri per la salute
CREATED;VALUE=DATE-TIME:20180713T140320Z
DESCRIPTION:Incontro di informazione ai cittadini a cura della Case della 
 Salute di Pieve di Cento – Cento
LAST-MODIFIED;VALUE=DATE-TIME:20180828T104035Z
LOCATION:Pieve di Cento\, Sala "Dafne Carletti" Corte Battistelli
URL:https://www.ausl.bologna.it/eventi/archivio/copy2_of_auslevent.2018-07
 -13.4389714819
END:VEVENT
END:VCALENDAR
