BEGIN:VCALENDAR
VERSION:2.0
PRODID:-//Plone.org//NONSGML plone.app.event//EN
X-WR-TIMEZONE:Europe/Rome
BEGIN:VEVENT
SUMMARY:Super Magic Crazy Sport
DTSTART;VALUE=DATE-TIME:20180519T064500Z
DTEND;VALUE=DATE-TIME:20180519T123000Z
DTSTAMP;VALUE=DATE-TIME:20260421T083152Z
UID:0f61abc4626f26375a761ec9554eaf99@127.0.0.1:8095
CATEGORIES:Trofeo sportivo
CONTACT:Rita Lambertini\, 333.6834242\, r.lambertini@ausl.bologna.it
CREATED;VALUE=DATE-TIME:20180510T101751Z
DESCRIPTION:6° Trofeo Moses Wizo “Correttezza e lealtà” a partecipaz
 ione libera
LAST-MODIFIED;VALUE=DATE-TIME:20180522T074409Z
LOCATION:Cittadella dello sport\, via Salvador Allende\, Casalecchio di Re
 no
URL:https://www.ausl.bologna.it/eventi/archivio/copy2_of_auslevent.2018-05
 -10.8111665222
END:VEVENT
END:VCALENDAR
