BEGIN:VCALENDAR
VERSION:2.0
PRODID:-//Plone.org//NONSGML plone.app.event//EN
X-WR-TIMEZONE:Europe/Rome
BEGIN:VEVENT
SUMMARY:Corso Walking leader 2019 - Rocchetta Mattei
DTSTART;VALUE=DATE-TIME:20190523T113000Z
DTEND;VALUE=DATE-TIME:20190524T113000Z
DTSTAMP;VALUE=DATE-TIME:20260420T093528Z
UID:4839c184ddbb70343d3652cc25e85828@127.0.0.1:8095
ATTENDEE;CN="Cittadini e operatori AUSL interessati";ROLE=REQ-PARTICIPANT:
 Cittadini e operatori AUSL interessati
CONTACT:Muriel Musti\, Walking leader\, murielassunta.musti@ausl.bologna.i
 t
CREATED;VALUE=DATE-TIME:20170317T114606Z
DESCRIPTION:Nell’azienda USL di Bologna sono diversi i gruppi di cammino
  attivi e permanenti tutto l’anno. Affinchè l’attività sia condotta 
 in assoluta sicurezza e perduri nel tempo è fondamentale che ogni gruppo 
 di cammino abbia un suo riferimento (walking leader).\nL'obiettivo del cor
 so è quello di formare operatori con competenze e conoscenze adeguate nel
 la conduzione di gruppi di cammino
LAST-MODIFIED;VALUE=DATE-TIME:20190724T083001Z
LOCATION:Rocchetta Mattei\,  46A - Via Rocchetta\, 40030 Grizzana Morandi 
 (Bo)
URL:https://www.ausl.bologna.it/eventi/archivio/copy2_of_auslevent.2017-03
 -17.9231603152
END:VEVENT
END:VCALENDAR
