BEGIN:VCALENDAR
VERSION:2.0
PRODID:-//Plone.org//NONSGML plone.app.event//EN
X-WR-TIMEZONE:Europe/Rome
BEGIN:VEVENT
SUMMARY:La convivenza uomo-animali d’affezione
DTSTART;VALUE=DATE-TIME:20180427T063000Z
DTEND;VALUE=DATE-TIME:20180427T113000Z
DTSTAMP;VALUE=DATE-TIME:20260420T044657Z
UID:133ef22abd99dfe6eeab95acf2c2957c@127.0.0.1:8095
ATTENDEE;CN="Veterinari, medici, biologi, tecnici della prevenzione, tecni
 ci sanitari di laboratorio (ECM ), agronomi, studenti";ROLE=REQ-PARTICIPAN
 T:Veterinari, medici, biologi, tecnici della prevenzione, tecnici sanitari
  di laboratorio (ECM ), agronomi, studenti
CONTACT:Olivia Melloni\, rosa.domina@ausl.bologna.it
CREATED;VALUE=DATE-TIME:20170209T105954Z
LAST-MODIFIED;VALUE=DATE-TIME:20180518T062253Z
LOCATION:Dipartimento Scienze Mediche Veterinarie - Ozzano
URL:https://www.ausl.bologna.it/eventi/archivio/copy2_of_auslevent.2017-02
 -09.8054060125
END:VEVENT
END:VCALENDAR
