BEGIN:VCALENDAR
VERSION:2.0
PRODID:-//Plone.org//NONSGML plone.app.event//EN
X-WR-TIMEZONE:Europe/Rome
BEGIN:VEVENT
SUMMARY:L'ufficiale di Polizia Giudiziaria dell'Area PSAL nella fase dibat
 timentale
DTSTART;VALUE=DATE-TIME:20170206T071500Z
DTEND;VALUE=DATE-TIME:20170206T133000Z
DTSTAMP;VALUE=DATE-TIME:20260420T112711Z
UID:a6c4f29ae8846a496f7b026f0594d1ea@127.0.0.1:8095
ATTENDEE;CN="Medici, tecnici della prevenzione";ROLE=REQ-PARTICIPANT:Medic
 i, tecnici della prevenzione
CONTACT:Mauro Tubertini\, 051 762842\, mauro.tubertini@ausl.bologna.it
CREATED;VALUE=DATE-TIME:20161223T130631Z
LAST-MODIFIED;VALUE=DATE-TIME:20180418T112505Z
URL:https://www.ausl.bologna.it/eventi/archivio/copy2_of_auslevent.2016-12
 -23.8128960249
END:VEVENT
END:VCALENDAR
