BEGIN:VCALENDAR
VERSION:2.0
PRODID:-//Plone.org//NONSGML plone.app.event//EN
X-WR-TIMEZONE:Europe/Rome
BEGIN:VEVENT
SUMMARY:Prevenire la sindrome metabolica: istruzioni per l’uso 
DTSTART;VALUE=DATE-TIME:20160426T120000Z
DTEND;VALUE=DATE-TIME:20160426T140000Z
DTSTAMP;VALUE=DATE-TIME:20260422T120815Z
UID:507545106fd7ec387fd7e1c7ee1fbb80@127.0.0.1:8095
ATTENDEE;CN="Tutti gli operatori dell'Ospedale Bellaria";ROLE=REQ-PARTICIP
 ANT:Tutti gli operatori dell'Ospedale Bellaria
CATEGORIES:Giornata di prevenzione
CONTACT:UOC Alimenti e nutrizione Città - DSP\, igienenutrizione@ausl.bol
 ogna.it
CREATED;VALUE=DATE-TIME:20160310T073906Z
DESCRIPTION:Sesto appuntamento di Bellaria InFORMA\nDott. Giulio Marchesin
 i Reggiani  
LAST-MODIFIED;VALUE=DATE-TIME:20160603T094949Z
LOCATION:Aula magna pad. Tinozzi - Ospedale Bellaria
URL:https://www.ausl.bologna.it/eventi/archivio/copy2_of_auslevent.2016-03
 -10.4324819078
END:VEVENT
END:VCALENDAR
