BEGIN:VCALENDAR
VERSION:2.0
PRODID:-//Plone.org//NONSGML plone.app.event//EN
X-WR-TIMEZONE:Europe/Rome
BEGIN:VEVENT
SUMMARY:Comunicare in sanità
DTSTART;TZID=Europe/Rome;VALUE=DATE-TIME:20230927T103000
DTEND;TZID=Europe/Rome;VALUE=DATE-TIME:20230927T163000
DTSTAMP;VALUE=DATE-TIME:20260420T093240Z
UID:c40961aafaf744869abdecbdd77a6876@127.0.0.1:8095
CATEGORIES:Istituto Scienze Neurologiche
CREATED;VALUE=DATE-TIME:20230524T134557Z
DESCRIPTION:Seminario IRCCS - GIALLO
LAST-MODIFIED;VALUE=DATE-TIME:20230825T062630Z
LOCATION:in presenza e online
URL:https://www.ausl.bologna.it/eventi/archivio/comunicare-in-sanita
END:VEVENT
BEGIN:VTIMEZONE
TZID:Europe/Rome
X-LIC-LOCATION:Europe/Rome
BEGIN:DAYLIGHT
DTSTART;VALUE=DATE-TIME:20230326T030000
TZNAME:CEST
TZOFFSETFROM:+0100
TZOFFSETTO:+0200
END:DAYLIGHT
END:VTIMEZONE
END:VCALENDAR
