BEGIN:VCALENDAR
VERSION:2.0
PRODID:-//Plone.org//NONSGML plone.app.event//EN
X-WR-TIMEZONE:Europe/Rome
BEGIN:VEVENT
SUMMARY:Casa della Comunità di Pieve di Cento e Ambulatori dei Medici di 
 Medicina Generale di Mascarino Venezzano
DTSTART;VALUE=DATE:20231227
DTEND;VALUE=DATE:20231228
DTSTAMP;VALUE=DATE-TIME:20260420T080706Z
UID:37d57223e31f49f696625a19b7b405fc@127.0.0.1:8095
CATEGORIES:Pianura Est
CONTACT:comunicazione@ausl.bologna.it
CREATED;VALUE=DATE-TIME:20231222T090651Z
DESCRIPTION:Inaugurazione
LAST-MODIFIED;VALUE=DATE-TIME:20240226T080617Z
LOCATION:Distretto Pianura Est
URL:https://www.ausl.bologna.it/eventi/archivio/casa-della-comunita-di-pie
 ve-di-cento-e-ambulatori-dei-medici-di-medicina-generale-di-mascarino-vene
 zzano
END:VEVENT
END:VCALENDAR
