BEGIN:VCALENDAR
VERSION:2.0
PRODID:-//Plone.org//NONSGML plone.app.event//EN
X-WR-TIMEZONE:Europe/Rome
BEGIN:VEVENT
SUMMARY:Caregiver day 2024 del Distretto Savena Idice
DTSTART;TZID=Europe/Rome;VALUE=DATE-TIME:20240929T153000
DTSTAMP;VALUE=DATE-TIME:20260420T063305Z
UID:91d40f1f25cf4ceca7998785c3c8dfb4@127.0.0.1:8095
CREATED;VALUE=DATE-TIME:20240912T093844Z
DESCRIPTION:A Pianoro\, un momento per restituire cura a chi cura
LAST-MODIFIED;VALUE=DATE-TIME:20241128T093647Z
LOCATION:Museo Arti e Mestieri - Via Gualando 2\, Pianoro
URL:https://www.ausl.bologna.it/eventi/archivio/caregiver-2024-del-distret
 to-savena-idice
END:VEVENT
BEGIN:VTIMEZONE
TZID:Europe/Rome
X-LIC-LOCATION:Europe/Rome
BEGIN:DAYLIGHT
DTSTART;VALUE=DATE-TIME:20240331T030000
TZNAME:CEST
TZOFFSETFROM:+0100
TZOFFSETTO:+0200
END:DAYLIGHT
END:VTIMEZONE
END:VCALENDAR
