BEGIN:VCALENDAR
VERSION:2.0
PRODID:-//Plone.org//NONSGML plone.app.event//EN
X-WR-TIMEZONE:Europe/Rome
BEGIN:VEVENT
SUMMARY:Buon primo compleanno Muovi il Treno
DTSTART;TZID=Europe/Rome;VALUE=DATE-TIME:20231021T153000
DTEND;TZID=Europe/Rome;VALUE=DATE-TIME:20231021T163000
DTSTAMP;VALUE=DATE-TIME:20260420T080532Z
UID:93ff3a7efc644477b9434b72517aeb66@127.0.0.1:8095
CONTACT:Prenotazioni via WhatsApp\, 3496422266
CREATED;VALUE=DATE-TIME:20230929T081135Z
DESCRIPTION:Festa e presentazione del libro
LAST-MODIFIED;VALUE=DATE-TIME:20231116T081220Z
LOCATION:Bologna\, Fondazione Innovazione Urbana\, Via Baldini\, 3a
URL:https://www.ausl.bologna.it/eventi/archivio/buon-primo-compleanno-muov
 i-il-treno
END:VEVENT
BEGIN:VTIMEZONE
TZID:Europe/Rome
X-LIC-LOCATION:Europe/Rome
BEGIN:DAYLIGHT
DTSTART;VALUE=DATE-TIME:20230326T030000
TZNAME:CEST
TZOFFSETFROM:+0100
TZOFFSETTO:+0200
END:DAYLIGHT
END:VTIMEZONE
END:VCALENDAR
