BEGIN:VCALENDAR
VERSION:2.0
PRODID:-//Plone.org//NONSGML plone.app.event//EN
X-WR-TIMEZONE:Europe/Rome
BEGIN:VEVENT
SUMMARY:Buena vista social comedy - 5 Nanomoli. Il sogno olimpico di una
  donna trans
DTSTART;TZID=Europe/Rome;VALUE=DATE-TIME:20250212T150000
DTEND;TZID=Europe/Rome;VALUE=DATE-TIME:20250212T173000
DTSTAMP;VALUE=DATE-TIME:20260420T060022Z
UID:b683e6e33fce410a8dae2e58d244cc2d@127.0.0.1:8095
CREATED;VALUE=DATE-TIME:20250203T100625Z
DESCRIPTION:Cinevasioni.edu - Il cinema nei luoghi di cura
LAST-MODIFIED;VALUE=DATE-TIME:20250313T141155Z
LOCATION:Bologna\, Ospedale Bellaria\, Aula magna\, via Altura 3
URL:https://www.ausl.bologna.it/eventi/archivio/buena-vista-social-comedy-
 5-nanomoli-il-sogno-olimpico-di-una-donna-trans
END:VEVENT
BEGIN:VTIMEZONE
TZID:Europe/Rome
X-LIC-LOCATION:Europe/Rome
BEGIN:STANDARD
DTSTART;VALUE=DATE-TIME:20241027T020000
TZNAME:CET
TZOFFSETFROM:+0200
TZOFFSETTO:+0100
END:STANDARD
END:VTIMEZONE
END:VCALENDAR
