BEGIN:VCALENDAR
VERSION:2.0
PRODID:-//Plone.org//NONSGML plone.app.event//EN
X-WR-TIMEZONE:Europe/Rome
BEGIN:VEVENT
SUMMARY:Bonding e rooming in\, le buone pratiche per sostenere e rafforzar
 e il nuovo ruolo genitoriale
DTSTART;TZID=Europe/Rome;VALUE=DATE-TIME:20230420T150000
DTSTAMP;VALUE=DATE-TIME:20260420T093904Z
UID:894649f7d36841a68386e3f624b905d7@127.0.0.1:8095
CONTACT:https://www.facebook.com/AziendaUslBologna
CREATED;VALUE=DATE-TIME:20230403T133409Z
DESCRIPTION:Evento online sulla pagina Facebook dell'Azienda USL di Bologn
 a
LAST-MODIFIED;VALUE=DATE-TIME:20230825T062647Z
LOCATION:Live streaming
URL:https://www.ausl.bologna.it/eventi/archivio/bonding-e-rooming-in-le-bu
 one-pratiche-per-sostenere-e-rafforzare-il-nuovo-ruolo-genitoriale
END:VEVENT
BEGIN:VTIMEZONE
TZID:Europe/Rome
X-LIC-LOCATION:Europe/Rome
BEGIN:DAYLIGHT
DTSTART;VALUE=DATE-TIME:20230326T030000
TZNAME:CEST
TZOFFSETFROM:+0100
TZOFFSETTO:+0200
END:DAYLIGHT
END:VTIMEZONE
END:VCALENDAR
