BEGIN:VCALENDAR
VERSION:2.0
PRODID:-//Plone.org//NONSGML plone.app.event//EN
X-WR-TIMEZONE:Europe/Rome
BEGIN:VEVENT
SUMMARY:Bologna Parkinson 2023
DTSTART;TZID=Europe/Rome;VALUE=DATE-TIME:20230302T143000
DTEND;TZID=Europe/Rome;VALUE=DATE-TIME:20230303T170000
DTSTAMP;VALUE=DATE-TIME:20260420T111954Z
UID:2cb9203767644d32aabe3c83c6bbb72e@127.0.0.1:8095
CATEGORIES:Istituto Scienze Neurologiche
CONTACT:Segreteria Organizzativa\, 051-263703\, segreteria@mccstudio.org\,
  http://www.mccstudio.org
CREATED;VALUE=DATE-TIME:20230216T092829Z
DESCRIPTION:Iscrizioni entro il 24 febbraio
LAST-MODIFIED;VALUE=DATE-TIME:20230825T062408Z
LOCATION:Royal Hotel Carlton\, Via Montebello 8 – Bologna
URL:https://www.ausl.bologna.it/eventi/archivio/bologna-parkinson-2023
END:VEVENT
BEGIN:VTIMEZONE
TZID:Europe/Rome
X-LIC-LOCATION:Europe/Rome
BEGIN:STANDARD
DTSTART;VALUE=DATE-TIME:20221030T020000
TZNAME:CET
TZOFFSETFROM:+0200
TZOFFSETTO:+0100
END:STANDARD
END:VTIMEZONE
END:VCALENDAR
