BEGIN:VCALENDAR
VERSION:2.0
PRODID:-//Plone.org//NONSGML plone.app.event//EN
X-WR-TIMEZONE:Europe/Rome
BEGIN:VEVENT
SUMMARY:Alimentare la salute gli sviluppi nella comunità del Bellaria: me
 nsa aziendale\, riduzione degli sprechi alimentari\, un orto da coltivare.
DTSTART;VALUE=DATE-TIME:20161122T130000Z
DTEND;VALUE=DATE-TIME:20161122T150000Z
DTSTAMP;VALUE=DATE-TIME:20260422T115855Z
UID:2dfa03264bcee0d076f11946a10da04b@127.0.0.1:8095
ATTENDEE;CN="Tutti gli operatori dell'Ospedale Bellaria";ROLE=REQ-PARTICIP
 ANT:Tutti gli operatori dell'Ospedale Bellaria
CATEGORIES:Giornata di prevenzione
CONTACT:UOC Alimenti e nutrizione Città - DSP\, igienenutrizione@ausl.bol
 ogna.it
CREATED;VALUE=DATE-TIME:20160310T073906Z
DESCRIPTION:Tredicesimo appuntamento di Bellaria InFORMA\nD.ssa Emilia Gub
 erti UOC Igiene Alimenti e Nutrizione Dipartimento Sanità Pubblica
LAST-MODIFIED;VALUE=DATE-TIME:20160919T090623Z
LOCATION:Aula magna pad. Tinozzi - Ospedale Bellaria
URL:https://www.ausl.bologna.it/eventi/archivio/bellariainf13
END:VEVENT
END:VCALENDAR
