BEGIN:VCALENDAR
VERSION:2.0
PRODID:-//Plone.org//NONSGML plone.app.event//EN
X-WR-TIMEZONE:Europe/Rome
BEGIN:VEVENT
SUMMARY:Allergie ed intolleranze alimentari: quali evidenze scientifiche? 
DTSTART;VALUE=DATE-TIME:20161103T130000Z
DTEND;VALUE=DATE-TIME:20161103T150000Z
DTSTAMP;VALUE=DATE-TIME:20260422T115855Z
UID:52c0ba048d2874f6b7120566466252d9@127.0.0.1:8095
ATTENDEE;CN="Tutti gli operatori dell'Ospedale Bellaria";ROLE=REQ-PARTICIP
 ANT:Tutti gli operatori dell'Ospedale Bellaria
CATEGORIES:Giornata di prevenzione
CONTACT:UOC Alimenti e nutrizione Città - DSP\, igienenutrizione@ausl.bol
 ogna.it
CREATED;VALUE=DATE-TIME:20160310T073906Z
DESCRIPTION:Dodicesimo appuntamento di Bellaria InFORMA\nD.ssa Elena De Be
 nedictis\, UOC Pneumologia Az. Ospedaliera S. Orsola- Malpighi
LAST-MODIFIED;VALUE=DATE-TIME:20160919T090549Z
LOCATION:Aula magna pad. Tinozzi - Ospedale Bellaria
URL:https://www.ausl.bologna.it/eventi/archivio/bellariainf12
END:VEVENT
END:VCALENDAR
