BEGIN:VCALENDAR
VERSION:2.0
PRODID:-//Plone.org//NONSGML plone.app.event//EN
X-WR-TIMEZONE:Europe/Rome
BEGIN:VEVENT
SUMMARY:Alimentazione e malattie gastrointestinali: una stretta relazione
DTSTART;VALUE=DATE-TIME:20161019T120000Z
DTEND;VALUE=DATE-TIME:20161019T140000Z
DTSTAMP;VALUE=DATE-TIME:20260422T121943Z
UID:d526224e7d780ac3900683a0a94e27cc@127.0.0.1:8095
ATTENDEE;CN="Tutti gli operatori dell'Ospedale Bellaria";ROLE=REQ-PARTICIP
 ANT:Tutti gli operatori dell'Ospedale Bellaria
CATEGORIES:Giornata di prevenzione
CONTACT:UOC Alimenti e nutrizione Città - DSP\, igienenutrizione@ausl.bol
 ogna.it
CREATED;VALUE=DATE-TIME:20160310T073906Z
DESCRIPTION:Undicesimo appuntamento di Bellaria InFORMA\nD.ssa Franca Patr
 izi UO Gastroenterologia metropolitana Azienda USL Bologna
LAST-MODIFIED;VALUE=DATE-TIME:20160919T091542Z
LOCATION:Aula magna pad. Tinozzi - Ospedale Bellaria
URL:https://www.ausl.bologna.it/eventi/archivio/bellariainf11
END:VEVENT
END:VCALENDAR
