BEGIN:VCALENDAR
VERSION:2.0
PRODID:-//Plone.org//NONSGML plone.app.event//EN
X-WR-TIMEZONE:Europe/Rome
BEGIN:VEVENT
SUMMARY:Stili di vita per la salute:la difficile via del cambiamento 
DTSTART;VALUE=DATE-TIME:20161012T120000Z
DTEND;VALUE=DATE-TIME:20161012T140000Z
DTSTAMP;VALUE=DATE-TIME:20260422T115855Z
UID:6d62aaab9f726175d40b36e6fa390fe7@127.0.0.1:8095
ATTENDEE;CN="Tutti gli operatori dell'Ospedale Bellaria";ROLE=REQ-PARTICIP
 ANT:Tutti gli operatori dell'Ospedale Bellaria
CATEGORIES:Giornata di prevenzione
CONTACT:UOC Alimenti e nutrizione Città - DSP\, igienenutrizione@ausl.bol
 ogna.it
CREATED;VALUE=DATE-TIME:20160310T073906Z
DESCRIPTION:Decimo appuntamento di Bellaria InFORMA\nDr.ssa Elena Centis\,
  UOC Igiene Alimenti e Nutrizione Dipartimento di Sanità Pubblica
LAST-MODIFIED;VALUE=DATE-TIME:20160919T090940Z
LOCATION:Aula magna pad. Tinozzi - Ospedale Bellaria
URL:https://www.ausl.bologna.it/eventi/archivio/bellariainf10
END:VEVENT
END:VCALENDAR
