BEGIN:VCALENDAR
VERSION:2.0
PRODID:-//Plone.org//NONSGML plone.app.event//EN
X-WR-TIMEZONE:Europe/Rome
BEGIN:VEVENT
SUMMARY:Avrò cura di te
DTSTART;TZID=Europe/Rome;VALUE=DATE-TIME:20241012T100000
DTEND;TZID=Europe/Rome;VALUE=DATE-TIME:20241012T130000
DTSTAMP;VALUE=DATE-TIME:20260420T061929Z
UID:0c99637921b6497f849fbb77ed5aeb9b@127.0.0.1:8095
CREATED;VALUE=DATE-TIME:20240927T120137Z
DESCRIPTION:L’esperienza del prendersi cura tra emozioni\, impegno\, fat
 iche e possibilità. Nell'ambito di "Incontri per la salute. Una comunità
  che cresce"
LAST-MODIFIED;VALUE=DATE-TIME:20241128T093716Z
LOCATION:Bologna\, Saletta di quartiere “civico 8” via Beroaldo 8/2
URL:https://www.ausl.bologna.it/eventi/archivio/avro-cura-di-te
END:VEVENT
BEGIN:VTIMEZONE
TZID:Europe/Rome
X-LIC-LOCATION:Europe/Rome
BEGIN:DAYLIGHT
DTSTART;VALUE=DATE-TIME:20240331T030000
TZNAME:CEST
TZOFFSETFROM:+0100
TZOFFSETTO:+0200
END:DAYLIGHT
END:VTIMEZONE
END:VCALENDAR
