BEGIN:VCALENDAR
VERSION:2.0
PRODID:-//Plone.org//NONSGML plone.app.event//EN
X-WR-TIMEZONE:Europe/Rome
BEGIN:VEVENT
SUMMARY:II Annual Meeting Rin - Rete degli IRCCS delle Neuroscienze e dell
 a Neuroriabilitazione
DTSTART;TZID=Europe/Rome;VALUE=DATE-TIME:20221215T083000
DTEND;TZID=Europe/Rome;VALUE=DATE-TIME:20221216T163000
DTSTAMP;VALUE=DATE-TIME:20260420T093647Z
UID:2e300e58208c419c15c3fda66b6c78c2@127.0.0.1:8095
CATEGORIES:Istituto Scienze Neurologiche
CREATED;VALUE=DATE-TIME:20221013T134716Z
LAST-MODIFIED;VALUE=DATE-TIME:20230825T062429Z
URL:https://www.ausl.bologna.it/eventi/archivio/auslevent.2022-10-13.74380
 03675
END:VEVENT
BEGIN:VTIMEZONE
TZID:Europe/Rome
X-LIC-LOCATION:Europe/Rome
BEGIN:STANDARD
DTSTART;VALUE=DATE-TIME:20221030T020000
TZNAME:CET
TZOFFSETFROM:+0200
TZOFFSETTO:+0100
END:STANDARD
END:VTIMEZONE
END:VCALENDAR
