BEGIN:VCALENDAR
VERSION:2.0
PRODID:-//Plone.org//NONSGML plone.app.event//EN
X-WR-TIMEZONE:Europe/Rome
BEGIN:VEVENT
SUMMARY:From structural-(dys)functional connectomics to clinical science: 
 linking hubs\, transcriptomics and diseases (epilepsy) in human brain netw
 orks
DTSTART;VALUE=DATE-TIME:20221018T140000Z
DTEND;VALUE=DATE-TIME:20221018T160000Z
DTSTAMP;VALUE=DATE-TIME:20260420T093609Z
UID:f2f35112e784b00b064d5df792aba350@127.0.0.1:8095
ATTENDEE;CN="Paolo Bonifazi (Phd, Ikerbasque Researcher, Biocruces Health 
 Research Institute, Bilbao - Basque Country, Spain)";ROLE=REQ-PARTICIPANT:
 Paolo Bonifazi (Phd, Ikerbasque Researcher, Biocruces Health Research Inst
 itute, Bilbao - Basque Country, Spain)
CREATED;VALUE=DATE-TIME:20221005T091538Z
DESCRIPTION:Seminario proposto dalla Direzione Scientifica IRCCS ISNB
LAST-MODIFIED;VALUE=DATE-TIME:20230825T062428Z
LOCATION:Biblioteca Storica - Ospedale Bellaria\, Padiglione Ingresso\, se
 condo piano
URL:https://www.ausl.bologna.it/eventi/archivio/auslevent.2022-10-05.07768
 69709
END:VEVENT
END:VCALENDAR
