BEGIN:VCALENDAR
VERSION:2.0
PRODID:-//Plone.org//NONSGML plone.app.event//EN
X-WR-TIMEZONE:Europe/Rome
BEGIN:VEVENT
SUMMARY:Il Sistema Sanitario Nazionale nella crisi di oggi e davanti al fu
 turo che arriva
DTSTART;VALUE=DATE-TIME:20220919T153000Z
DTEND;VALUE=DATE-TIME:20220919T173000Z
DTSTAMP;VALUE=DATE-TIME:20260420T031111Z
UID:67a373babe1cb05b81a6cc1835c28c20@127.0.0.1:8095
CATEGORIES:Webinar
CREATED;VALUE=DATE-TIME:20220914T111338Z
DESCRIPTION:Webinair su piattaforma Zoom
LAST-MODIFIED;VALUE=DATE-TIME:20250107T140413Z
URL:https://www.ausl.bologna.it/eventi/archivio/auslevent.2022-09-14.67866
 70581
END:VEVENT
END:VCALENDAR
