BEGIN:VCALENDAR
VERSION:2.0
PRODID:-//Plone.org//NONSGML plone.app.event//EN
X-WR-TIMEZONE:Europe/Rome
BEGIN:VEVENT
SUMMARY:Incontri di ecocardiografia - 3° incontro
DTSTART;VALUE=DATE-TIME:20221201T143000Z
DTEND;VALUE=DATE-TIME:20221201T180000Z
DTSTAMP;VALUE=DATE-TIME:20260420T113455Z
UID:05eab93556c8ff318ec8fa74ac455866@127.0.0.1:8095
CATEGORIES:Aggiornamento
CONTACT:cardiomiopatie.bentivoglio@pec.ausl.bologna.it
CREATED;VALUE=DATE-TIME:20220914T144739Z
DESCRIPTION:Protesi valvolari\, malattie del pericardio e miscellanea
LAST-MODIFIED;VALUE=DATE-TIME:20221206T104315Z
LOCATION:Sala dello Zodiaco\, Palazzo Rosso\, Bentivoglio (BO)
URL:https://www.ausl.bologna.it/eventi/archivio/auslevent.2022-09-14.53533
 69904_3
END:VEVENT
END:VCALENDAR
