BEGIN:VCALENDAR
VERSION:2.0
PRODID:-//Plone.org//NONSGML plone.app.event//EN
X-WR-TIMEZONE:Europe/Rome
BEGIN:VEVENT
SUMMARY:Incontri di ecocardiografia - 2° incontro
DTSTART;VALUE=DATE-TIME:20221110T143000Z
DTEND;VALUE=DATE-TIME:20221110T180000Z
DTSTAMP;VALUE=DATE-TIME:20260420T113456Z
UID:1c6b5c87d9dd7a9508023c41d3280ce6@127.0.0.1:8095
CATEGORIES:Aggiornamento
CONTACT:cardiomiopatie.bentivoglio@pec.ausl.bologna.it
CREATED;VALUE=DATE-TIME:20220914T144739Z
DESCRIPTION:Malattie della valvola mitrale\, aortica e tricuspide
LAST-MODIFIED;VALUE=DATE-TIME:20221206T104314Z
LOCATION:Sala dello Zodiaco\, Palazzo Rosso\, Bentivoglio (BO)
URL:https://www.ausl.bologna.it/eventi/archivio/auslevent.2022-09-14.53533
 69904_2
END:VEVENT
END:VCALENDAR
