BEGIN:VCALENDAR
VERSION:2.0
PRODID:-//Plone.org//NONSGML plone.app.event//EN
X-WR-TIMEZONE:Europe/Rome
BEGIN:VEVENT
SUMMARY:Attenti al porcello!
DTSTART;VALUE=DATE-TIME:20220918T143000Z
DTEND;VALUE=DATE-TIME:20220918T153000Z
DTSTAMP;VALUE=DATE-TIME:20260420T031147Z
UID:3fe4c3adad37e6ba9b027074bcd99295@127.0.0.1:8095
CATEGORIES:Spettacolo teatrale
CREATED;VALUE=DATE-TIME:20220913T091059Z
DESCRIPTION:Spettacolo di burattini in baracca. Liberamente tratto da "I t
 re piccoli lupi e il maiale cattivo" di Eugene Trivizas e Helen Oxembyry\n
LAST-MODIFIED;VALUE=DATE-TIME:20250107T140413Z
LOCATION:Parrocchia Cuore Immacolato di Maria – Borgo Panigale (BO)
URL:https://www.ausl.bologna.it/eventi/archivio/auslevent.2022-09-13.94059
 53153
END:VEVENT
END:VCALENDAR
