BEGIN:VCALENDAR
VERSION:2.0
PRODID:-//Plone.org//NONSGML plone.app.event//EN
X-WR-TIMEZONE:Europe/Rome
BEGIN:VEVENT
SUMMARY:Pollicino
DTSTART;VALUE=DATE-TIME:20220918T083000Z
DTEND;VALUE=DATE-TIME:20220918T090000Z
DTSTAMP;VALUE=DATE-TIME:20260420T031111Z
UID:93246da5db911cc5b70904ef082b7bde@127.0.0.1:8095
CATEGORIES:Spettacolo teatrale
CREATED;VALUE=DATE-TIME:20220913T090524Z
DESCRIPTION:Una produzione di Arte e Salute\, in collaborazione con La Bar
 acca - Testoni Ragazzi\n
LAST-MODIFIED;VALUE=DATE-TIME:20250107T140413Z
LOCATION:Forlì\, Chiostro dei Musei San Domenico
URL:https://www.ausl.bologna.it/eventi/archivio/auslevent.2022-09-13.66226
 57936
END:VEVENT
END:VCALENDAR
